BEGIN:VCALENDAR
VERSION:2.0
CALSCALE:GREGORIAN
PRODID:-//Diputació de Barcelona//DibaCMS//EN
BEGIN:VEVENT
UID:4278
DTSTAMP:20260421T200524
DTSTART:20240701T100000
DTEND:20300706T000000
SUMMARY:Convocatòria d’un minut de silenci a Dosrius per les víctimes de violència masclista
LOCATION:
METHOD:PUBLISH
X-WR-CALNAME:dosrius@dosrius.cat
X-WR-TIMEZONE:Europe/Madrid
DESCRIPTION:
La concentració tindrà lloc demà, 2 de juliol, a les 12 h davant de l'Ajuntament.

URI:https://www.dosrius.cat/actualitat/noticies/convocatoria-dun-minut-de-silenci-a-dosrius-per-les-victimes-de-violencia-masclista.html
CLASS:PUBLIC
END:VEVENT
END:VCALENDAR
