BEGIN:VCALENDAR
VERSION:2.0
CALSCALE:GREGORIAN
PRODID:-//Diputació de Barcelona//DibaCMS//EN
BEGIN:VEVENT
UID:4271
DTSTAMP:20260422T101259
DTSTART:20240621T000000
DTEND:20290608T000000
SUMMARY:Cantada d’havaneres i lliurament de premis del XV Concurs Literari Esteve Albert a la plaça del Pla de la Calma
LOCATION:
METHOD:PUBLISH
X-WR-CALNAME:dosrius@dosrius.cat
X-WR-TIMEZONE:Europe/Madrid
DESCRIPTION:
La trobada tindrà lloc el dissabte 6 de juliol.

URI:https://www.dosrius.cat/actualitat/noticies/cantada-dhavaneres-i-lliurament-de-premis-del-xv-concurs-literari-esteve-albert-a-la-placa-del-pla-de-la-calma.html
CLASS:PUBLIC
END:VEVENT
END:VCALENDAR
