BEGIN:VCALENDAR
VERSION:2.0
CALSCALE:GREGORIAN
PRODID:-//Diputació de Barcelona//DibaCMS//EN
BEGIN:VEVENT
UID:4270
DTSTAMP:20260422T002343
DTSTART:20240620T000000
DTEND:20300601T000000
SUMMARY:Les Agrupacions de Defensa Forestal es preparen per atendre les situacions de risc durant la nit de Sant Joan
LOCATION:
METHOD:PUBLISH
X-WR-CALNAME:dosrius@dosrius.cat
X-WR-TIMEZONE:Europe/Madrid
DESCRIPTION:
56 voluntaris i 28 vehicles de tot el Maresme i S.E. del Vallès Oriental estaran de servei durant durant la Revetlla. 

URI:https://www.dosrius.cat/actualitat/noticies/les-agrupacions-de-defensa-forestal-es-preparen-per-atendre-les-situacions-de-risc-durant-la-nit-de-sant-joan.html
CLASS:PUBLIC
END:VEVENT
END:VCALENDAR
