BEGIN:VCALENDAR
VERSION:2.0
CALSCALE:GREGORIAN
PRODID:-//Diputació de Barcelona//DibaCMS//EN
BEGIN:VEVENT
UID:4267
DTSTAMP:20260422T002551
DTSTART:20240618T000000
DTEND:20310531T000000
SUMMARY:La XX edició de la Fira del Bosc-Canyamars Medieval obre inscripcions i ja té cartell
LOCATION:
METHOD:PUBLISH
X-WR-CALNAME:dosrius@dosrius.cat
X-WR-TIMEZONE:Europe/Madrid
DESCRIPTION:
Se celebrarà el 19 i 20 d’octubre i les inscripcions pels paradistes que vulguin participar-hi ja estan obertes.

URI:https://www.dosrius.cat/actualitat/noticies/la-xx-edicio-de-la-fira-del-bosc-canyamars-medieval-obre-inscripcions-i-ja-te-cartell.html
CLASS:PUBLIC
END:VEVENT
END:VCALENDAR
