BEGIN:VCALENDAR
VERSION:2.0
CALSCALE:GREGORIAN
PRODID:-//Diputació de Barcelona//DibaCMS//EN
BEGIN:VEVENT
UID:4262
DTSTAMP:20260421T225853
DTSTART:20240618T000000
DTEND:20270604T000000
SUMMARY:La Flama del Canigó arriba a Dosrius per celebrar la revetlla de Sant Joan
LOCATION:
METHOD:PUBLISH
X-WR-CALNAME:dosrius@dosrius.cat
X-WR-TIMEZONE:Europe/Madrid
DESCRIPTION:
Aquest diumenge, 23 de juny, es rebrà a la plaça de l'Ajuntament la flama, símbol i emblema del solstici d’estiu. 

URI:https://www.dosrius.cat/actualitat/noticies/la-flama-del-canigo-arriba-a-dosrius-per-celebrar-la-revetlla-de-sant-joan.html
CLASS:PUBLIC
END:VEVENT
END:VCALENDAR
