BEGIN:VCALENDAR
VERSION:2.0
CALSCALE:GREGORIAN
PRODID:-//Diputació de Barcelona//DibaCMS//EN
BEGIN:VEVENT
UID:4261
DTSTAMP:20260422T120304
DTSTART:20241104T000000
DTEND:20290301T000000
SUMMARY:L’Oficina Mòbil d’Informació al Consumidor atendrà dimecres 6 de novembre les consultes veïnals
LOCATION:
METHOD:PUBLISH
X-WR-CALNAME:dosrius@dosrius.cat
X-WR-TIMEZONE:Europe/Madrid
DESCRIPTION:
El servei es prestarà el dimecres 6 de novembre, de 10.30 h a 11.30 h, a l’aparcament ubicat davant de l’Ajuntament.

URI:https://www.dosrius.cat/actualitat/noticies/loficina-mobil-dinformacio-al-consumidor-atendra-dimecres-6-de-novembre-les-consultes-veinals.html
CLASS:PUBLIC
END:VEVENT
END:VCALENDAR
