BEGIN:VCALENDAR
VERSION:2.0
CALSCALE:GREGORIAN
PRODID:-//Diputació de Barcelona//DibaCMS//EN
BEGIN:VEVENT
UID:4259
DTSTAMP:20260422T013618
DTSTART:20240615T000000
DTEND:20300601T000000
SUMMARY:L'Ajuntament de Dosrius llança una campanya de conscienciació per prevenir incendis forestals
LOCATION:
METHOD:PUBLISH
X-WR-CALNAME:dosrius@dosrius.cat
X-WR-TIMEZONE:Europe/Madrid
DESCRIPTION:
El consistori vol difondre pràctiques segures i de sensibilització per prevenir aquests desastres naturals.

URI:https://www.dosrius.cat/actualitat/noticies/lajuntament-de-dosrius-llanca-una-campanya-de-conscienciacio-per-prevenir-incendis-forestals.html
CLASS:PUBLIC
END:VEVENT
END:VCALENDAR
