BEGIN:VCALENDAR
VERSION:2.0
CALSCALE:GREGORIAN
PRODID:-//Diputació de Barcelona//DibaCMS//EN
BEGIN:VEVENT
UID:4256
DTSTAMP:20260422T025548
DTSTART:20240701T000000
DTEND:20300607T000000
SUMMARY:Canvi de data per la sortida jove a Waterworld
LOCATION:
METHOD:PUBLISH
X-WR-CALNAME:dosrius@dosrius.cat
X-WR-TIMEZONE:Europe/Madrid
DESCRIPTION:
L'activitat tindrà lloc el dissabte 20 de juliol i inclourà transport i entrada al parc aquàtic per només 16 o 25 euros, segons l'altura del participant.

URI:https://www.dosrius.cat/actualitat/noticies/canvi-de-data-per-la-sortida-jove-a-waterworld.html
CLASS:PUBLIC
END:VEVENT
END:VCALENDAR
