BEGIN:VCALENDAR
VERSION:2.0
CALSCALE:GREGORIAN
PRODID:-//Diputació de Barcelona//DibaCMS//EN
BEGIN:VEVENT
UID:4255
DTSTAMP:20260422T174545
DTSTART:20240610T000000
DTEND:20300601T000000
SUMMARY:Resultats de les Eleccions al Parlament Europeu
LOCATION:
METHOD:PUBLISH
X-WR-CALNAME:dosrius@dosrius.cat
X-WR-TIMEZONE:Europe/Madrid
DESCRIPTION:
Aquest diumenge, 9 de juny, s'han celebrat les eleccions al Parlament Europeu. Amb una participació total del 38,18 % (1.783 persones) els resultats a Dosrius ha estat el següent:

URI:https://www.dosrius.cat/actualitat/noticies/resultats-de-les-eleccions-al-parlament-europeu.html
CLASS:PUBLIC
END:VEVENT
END:VCALENDAR
