BEGIN:VCALENDAR
VERSION:2.0
CALSCALE:GREGORIAN
PRODID:-//Diputació de Barcelona//DibaCMS//EN
BEGIN:VEVENT
UID:4254
DTSTAMP:20260422T042339
DTSTART:20240607T000000
DTEND:20300608T000000
SUMMARY:L'Arxiu Municipal de Dosrius presenta la seva nova publicació online: ARXIVA'D
LOCATION:
METHOD:PUBLISH
X-WR-CALNAME:dosrius@dosrius.cat
X-WR-TIMEZONE:Europe/Madrid
DESCRIPTION:
La revista trimestral busca apropar l'arxiu a la ciutadania amb articles accessibles i participació veïnal.

URI:https://www.dosrius.cat/actualitat/noticies/larxiu-municipal-de-dosrius-presenta-la-seva-nova-publicacio-online-arxivad.html
CLASS:PUBLIC
END:VEVENT
END:VCALENDAR
