BEGIN:VCALENDAR
VERSION:2.0
CALSCALE:GREGORIAN
PRODID:-//Diputació de Barcelona//DibaCMS//EN
BEGIN:VEVENT
UID:4249
DTSTAMP:20260422T144919
DTSTART:20240531T130000
DTEND:20300501T130000
SUMMARY:Nova edició de l’EcoConstruir amb la col·laboració de l’Ajuntament de Dosrius
LOCATION:
METHOD:PUBLISH
X-WR-CALNAME:dosrius@dosrius.cat
X-WR-TIMEZONE:Europe/Madrid
DESCRIPTION:
Se celebra el 31 de maig i l’1 de juny i mostra les últimes tendències en el sector de la construcció en termes d’innovació i sostenibilitat. 

URI:https://www.dosrius.cat/actualitat/noticies/nova-edicio-de-lecoconstruir-amb-la-collaboracio-de-lajuntament-de-dosrius.html
CLASS:PUBLIC
END:VEVENT
END:VCALENDAR
