BEGIN:VCALENDAR
VERSION:2.0
CALSCALE:GREGORIAN
PRODID:-//Diputació de Barcelona//DibaCMS//EN
BEGIN:VEVENT
UID:4248
DTSTAMP:20260422T025231
DTSTART:20240531T000000
DTEND:20290504T000000
SUMMARY:Dosrius proposa descobrir la importància dels arxius en la seva Setmana Internacional
LOCATION:
METHOD:PUBLISH
X-WR-CALNAME:dosrius@dosrius.cat
X-WR-TIMEZONE:Europe/Madrid
DESCRIPTION:
El proper 7 de juny se celebrarà la xerrada "L'arxiu, què és?" a la Sala de Plens de l'Ajuntament.

URI:https://www.dosrius.cat/actualitat/noticies/dosrius-proposa-descobrir-la-importancia-dels-arxius-en-la-seva-setmana-internacional.html
CLASS:PUBLIC
END:VEVENT
END:VCALENDAR
