BEGIN:VCALENDAR
VERSION:2.0
CALSCALE:GREGORIAN
PRODID:-//Diputació de Barcelona//DibaCMS//EN
BEGIN:VEVENT
UID:4247
DTSTAMP:20260422T114351
DTSTART:20240530T110000
DTEND:20330501T000000
SUMMARY:Coneix el nou institut d’Els Roures en la Jornada de Portes Obertes!
LOCATION:
METHOD:PUBLISH
X-WR-CALNAME:dosrius@dosrius.cat
X-WR-TIMEZONE:Europe/Madrid
DESCRIPTION:
El dissabte 8 de juny es proposa una oportunitat única per conèixer les instal·lacions del nou centre.

URI:https://www.dosrius.cat/actualitat/noticies/coneix-el-nou-institut-dels-roures-en-la-jornada-de-portes-obertes.html
CLASS:PUBLIC
END:VEVENT
END:VCALENDAR
