BEGIN:VCALENDAR
VERSION:2.0
CALSCALE:GREGORIAN
PRODID:-//Diputació de Barcelona//DibaCMS//EN
BEGIN:VEVENT
UID:4242
DTSTAMP:20260422T001501
DTSTART:20240529T000000
DTEND:20300503T000000
SUMMARY:Dosrius acull la primera edició de la Cuban Flower Party & Market
LOCATION:
METHOD:PUBLISH
X-WR-CALNAME:dosrius@dosrius.cat
X-WR-TIMEZONE:Europe/Madrid
DESCRIPTION:
Se celebrarà l’1 i 2 de juny a El Trencat – Zona esportiva de Can Massuet, i comptarà amb propostes per a tots els públics, oferta gastronòmica variada, artesania, música en viu i sessions de ball cubà.

URI:https://www.dosrius.cat/actualitat/noticies/dosrius-acull-la-primera-edicio-de-la-cuban-flower-party-and-market.html
CLASS:PUBLIC
END:VEVENT
END:VCALENDAR
