BEGIN:VCALENDAR
VERSION:2.0
CALSCALE:GREGORIAN
PRODID:-//Diputació de Barcelona//DibaCMS//EN
BEGIN:VEVENT
UID:4241
DTSTAMP:20260421T214106
DTSTART:20240528T000000
DTEND:20300502T000000
SUMMARY:Alerta de Salut per la retirada del mercat de diversos productes de cura personal i cosmètica
LOCATION:
METHOD:PUBLISH
X-WR-CALNAME:dosrius@dosrius.cat
X-WR-TIMEZONE:Europe/Madrid
DESCRIPTION:
L’informe afecta la crema Rougj Etaridutil, el 2 en 1 Gel de Baño-Champú Sofia the First de 475 ml, i les colònies Black de Naturmais Eau de toilette, Eterna de Naturmais Eau de toilette i Diselo de Naturmais Eau de toilette.

URI:https://www.dosrius.cat/actualitat/noticies/alerta-de-salut-per-la-retirada-del-mercat-de-diversos-productes-de-cura-personal-i-cosmetica.html
CLASS:PUBLIC
END:VEVENT
END:VCALENDAR
