BEGIN:VCALENDAR
VERSION:2.0
CALSCALE:GREGORIAN
PRODID:-//Diputació de Barcelona//DibaCMS//EN
BEGIN:VEVENT
UID:4240
DTSTAMP:20260422T025731
DTSTART:20240528T000000
DTEND:20330501T000000
SUMMARY:Instal·lació d’un dispositiu per l’estudi de llarga durada de partícules PM10 a Dosrius
LOCATION:
METHOD:PUBLISH
X-WR-CALNAME:dosrius@dosrius.cat
X-WR-TIMEZONE:Europe/Madrid
DESCRIPTION:
El punt de mesura s’ha instal·lat en el sostre del nou Institut.

URI:https://www.dosrius.cat/actualitat/noticies/installacio-dun-dispositiu-per-lestudi-de-llarga-durada-de-particules-pm10-a-dosrius.html
CLASS:PUBLIC
END:VEVENT
END:VCALENDAR
