BEGIN:VCALENDAR
VERSION:2.0
CALSCALE:GREGORIAN
PRODID:-//Diputació de Barcelona//DibaCMS//EN
BEGIN:VEVENT
UID:4238
DTSTAMP:20260422T085131
DTSTART:20240525T000000
DTEND:20300705T000000
SUMMARY:Alerta de Salut per la retirada del mercat de diversos productes de la marca Adidas i Playboy
LOCATION:
METHOD:PUBLISH
X-WR-CALNAME:dosrius@dosrius.cat
X-WR-TIMEZONE:Europe/Madrid
DESCRIPTION:
L’informe afecta diversos productes de la marca l’ADIDAS i Playboy.

URI:https://www.dosrius.cat/actualitat/noticies/alerta-de-salut-per-la-retirada-del-mercat-de-diversos-productes-de-la-marca-adidas-i-playboy.html
CLASS:PUBLIC
END:VEVENT
END:VCALENDAR
