BEGIN:VCALENDAR
VERSION:2.0
CALSCALE:GREGORIAN
PRODID:-//Diputació de Barcelona//DibaCMS//EN
BEGIN:VEVENT
UID:4237
DTSTAMP:20260422T013644
DTSTART:20240524T000000
DTEND:20250524T000000
SUMMARY:L’Ajuntament de Dosrius rep la visita d’alumnes de l’Escola Castell de Dosrius
LOCATION:
METHOD:PUBLISH
X-WR-CALNAME:dosrius@dosrius.cat
X-WR-TIMEZONE:Europe/Madrid
DESCRIPTION:Prop d’una cinquantena d’alumnes de 4rt de primària visiten les instal·lacions de l’Ajuntament.

URI:https://www.dosrius.cat/actualitat/noticies/lajuntament-de-dosrius-rep-la-visita-dun-grup-dalumnes-de-lescola-castell.html
CLASS:PUBLIC
END:VEVENT
END:VCALENDAR
