BEGIN:VCALENDAR
VERSION:2.0
CALSCALE:GREGORIAN
PRODID:-//Diputació de Barcelona//DibaCMS//EN
BEGIN:VEVENT
UID:4234
DTSTAMP:20260421T213130
DTSTART:20240521T000000
DTEND:20310501T000000
SUMMARY:Apunta’t als casals d’estiu de Dosrius!
LOCATION:
METHOD:PUBLISH
X-WR-CALNAME:dosrius@dosrius.cat
X-WR-TIMEZONE:Europe/Madrid
DESCRIPTION:
Aquest estiu es proposen el de l’AFA de l’Escola Castell de Dosrius, el Campus d’Estiu del Club Muaythai Dosrius i el Casal i les Colònies del Grup d’Esplai l’Esclat. 

URI:https://www.dosrius.cat/actualitat/noticies/4234-apuntat-als-casals-destiu-de-dosrius.html
CLASS:PUBLIC
END:VEVENT
END:VCALENDAR
