BEGIN:VCALENDAR
VERSION:2.0
CALSCALE:GREGORIAN
PRODID:-//Diputació de Barcelona//DibaCMS//EN
BEGIN:VEVENT
UID:4232
DTSTAMP:20260421T213003
DTSTART:20240514T000000
DTEND:20300501T000000
SUMMARY:Plataforma per presentar impediments per formar part d’una mesa electoral per les Eleccions al Parlament Europeu
LOCATION:
METHOD:PUBLISH
X-WR-CALNAME:dosrius@dosrius.cat
X-WR-TIMEZONE:Europe/Madrid
DESCRIPTION:
Les Juntes Electorals de Zona disposen d'una aplicació perquè el ciutadà pugui presentar l'excusa per la seva designació per integrar les meses electorals.

URI:https://www.dosrius.cat/actualitat/noticies/plataforma-per-presentar-impediments-per-formar-part-duna-mesa-electoral-per-les-eleccions-al-parlament-europeu.html
CLASS:PUBLIC
END:VEVENT
END:VCALENDAR
