BEGIN:VCALENDAR
VERSION:2.0
CALSCALE:GREGORIAN
PRODID:-//Diputació de Barcelona//DibaCMS//EN
BEGIN:VEVENT
UID:4231
DTSTAMP:20260422T025747
DTSTART:20240514T000000
DTEND:20300503T000000
SUMMARY:L’Ajuntament de Dosrius aprova diversos projectes de plaques fotovoltaiques en equipaments municipals
LOCATION:
METHOD:PUBLISH
X-WR-CALNAME:dosrius@dosrius.cat
X-WR-TIMEZONE:Europe/Madrid
DESCRIPTION:
El consistori està treballant per instal·lar pròximament plaques solars al Poliesportiu de Canyamars, a l’Escola Castell de Dosrius, a la nau La Tortuga i a l’edifici de l’Ajuntament.

URI:https://www.dosrius.cat/actualitat/noticies/lajuntament-de-dosrius-aprova-diversos-projectes-de-plaques-fotovoltaiques-en-equipaments-municipals.html
CLASS:PUBLIC
END:VEVENT
END:VCALENDAR
