BEGIN:VCALENDAR
VERSION:2.0
CALSCALE:GREGORIAN
PRODID:-//Diputació de Barcelona//DibaCMS//EN
BEGIN:VEVENT
UID:4230
DTSTAMP:20260422T114316
DTSTART:20240512T000000
DTEND:20310508T000000
SUMMARY:Resultats de les eleccions al Parlament de Catalunya
LOCATION:
METHOD:PUBLISH
X-WR-CALNAME:dosrius@dosrius.cat
X-WR-TIMEZONE:Europe/Madrid
DESCRIPTION:Aquest diumenge, 12 de maig, s'han celebrat les eleccions al Parlament de Catalunya. Amb una participació total del 54,9 % (2.541 persones) els resultats a Dosrius han estat els següents:

URI:https://www.dosrius.cat/actualitat/noticies/4230-resultats-de-les-eleccions-al-parlament-de-catalunya.html
CLASS:PUBLIC
END:VEVENT
END:VCALENDAR
