BEGIN:VCALENDAR
VERSION:2.0
CALSCALE:GREGORIAN
PRODID:-//Diputació de Barcelona//DibaCMS//EN
BEGIN:VEVENT
UID:4227
DTSTAMP:20260421T212912
DTSTART:20240508T000000
DTEND:20290501T000000
SUMMARY:Punts públics de la Junta de Govern Local
LOCATION:
METHOD:PUBLISH
X-WR-CALNAME:dosrius@dosrius.cat
X-WR-TIMEZONE:Europe/Madrid
DESCRIPTION:
En la Junta de Govern Local prevista pel dilluns 13 de maig a les 09.30 h es debatran els següents temes per delegació del Ple municipal:




URI:https://www.dosrius.cat/actualitat/noticies/4227-punts-publics-de-la-junta-de-govern-local.html
CLASS:PUBLIC
END:VEVENT
END:VCALENDAR
