BEGIN:VCALENDAR
VERSION:2.0
CALSCALE:GREGORIAN
PRODID:-//Diputació de Barcelona//DibaCMS//EN
BEGIN:VEVENT
UID:4226
DTSTAMP:20260421T224838
DTSTART:20240508T000000
DTEND:20250508T000000
SUMMARY:Convocatòria de les beques de menjador escolar per al curs 2024/2025
LOCATION:
METHOD:PUBLISH
X-WR-CALNAME:dosrius@dosrius.cat
X-WR-TIMEZONE:Europe/Madrid
DESCRIPTION:
El termini de presentació de sol·licituds comença el 13 de maig i finalitza el 14 de juny.

URI:https://www.dosrius.cat/actualitat/noticies/convocatoria-de-les-beques-de-menjador-escolar-per-al-curs-20242025.html
CLASS:PUBLIC
END:VEVENT
END:VCALENDAR
