BEGIN:VCALENDAR
VERSION:2.0
CALSCALE:GREGORIAN
PRODID:-//Diputació de Barcelona//DibaCMS//EN
BEGIN:VEVENT
UID:4220
DTSTAMP:20260422T001429
DTSTART:20240506T000000
DTEND:20330430T000000
SUMMARY:El cap de setmana més ‘animal, a Dosrius
LOCATION:
METHOD:PUBLISH
X-WR-CALNAME:dosrius@dosrius.cat
X-WR-TIMEZONE:Europe/Madrid
DESCRIPTION:
El proper 26 de maig, el municipi acollirà la tercera Fira Animalista i la 18a desfilada canina, a càrrec de la protectora d’Amics dels Animals de Dosrius

URI:https://www.dosrius.cat/actualitat/noticies/el-cap-de-setmana-mes-animal-a-dosrius.html
CLASS:PUBLIC
END:VEVENT
END:VCALENDAR
