BEGIN:VCALENDAR
VERSION:2.0
CALSCALE:GREGORIAN
PRODID:-//Diputació de Barcelona//DibaCMS//EN
BEGIN:VEVENT
UID:4219
DTSTAMP:20260421T225149
DTSTART:20240506T000000
DTEND:20250506T000000
SUMMARY:Consulta l’oferta de places pel curs 2024/2025 a l’EBM La Caseta del Bosc de Can Martorell
LOCATION:
METHOD:PUBLISH
X-WR-CALNAME:dosrius@dosrius.cat
X-WR-TIMEZONE:Europe/Madrid
DESCRIPTION:
Per a més informació podeu trucar al telèfon 937 919 364 o enviar un correu electrònic a l’adreça ebm.casetadelbosc@peretarres.org. Les preinscripcions es realitzaran del 8 al 21 de maig amb cita prèvia.

URI:https://www.dosrius.cat/actualitat/noticies/consulta-loferta-de-places-pel-curs-20242025-a-lebm-la-caseta-del-bosc-de-can-martorell.html
CLASS:PUBLIC
END:VEVENT
END:VCALENDAR
