BEGIN:VCALENDAR
VERSION:2.0
CALSCALE:GREGORIAN
PRODID:-//Diputació de Barcelona//DibaCMS//EN
BEGIN:VEVENT
UID:4218
DTSTAMP:20260421T224732
DTSTART:20240506T000000
DTEND:20290501T000000
SUMMARY:Nova convocatòria de subvencions per a entitats sense ànim de lucre en matèria de feminismes i igualtat
LOCATION:
METHOD:PUBLISH
X-WR-CALNAME:dosrius@dosrius.cat
X-WR-TIMEZONE:Europe/Madrid
DESCRIPTION:
La Diputació de Barcelona ha obert el termini per a sol·licitar els programes que s’inclouen en la convocatòria. El termini finalitzarà el 23 de maig. 

URI:https://www.dosrius.cat/actualitat/noticies/nova-convocatoria-de-subvencions-per-a-entitats-sense-anim-de-lucre-en-materia-de-feminismes-i-igualtat.html
CLASS:PUBLIC
END:VEVENT
END:VCALENDAR
