BEGIN:VCALENDAR
VERSION:2.0
CALSCALE:GREGORIAN
PRODID:-//Diputació de Barcelona//DibaCMS//EN
BEGIN:VEVENT
UID:4215
DTSTAMP:20260422T001539
DTSTART:20240502T000000
DTEND:20300510T000000
SUMMARY:Vols formar-te com a monitor/a d’activitats de lleure infantil i juvenil?
LOCATION:
METHOD:PUBLISH
X-WR-CALNAME:dosrius@dosrius.cat
X-WR-TIMEZONE:Europe/Madrid
DESCRIPTION:
Totes aquelles persones interessades en participar-hi poden fer la inscripció accedint al següent enllaç.

URI:https://www.dosrius.cat/actualitat/noticies/4215-vols-formar-te-com-a-monitora-dactivitats-de-lleure-infantil-i-juvenil.html
CLASS:PUBLIC
END:VEVENT
END:VCALENDAR
