BEGIN:VCALENDAR
VERSION:2.0
CALSCALE:GREGORIAN
PRODID:-//Diputació de Barcelona//DibaCMS//EN
BEGIN:VEVENT
UID:4212
DTSTAMP:20260422T114124
DTSTART:20240429T000000
DTEND:20290401T000000
SUMMARY:Canyamars celebra el Vot de Poble el proper 1 de maig
LOCATION:
METHOD:PUBLISH
X-WR-CALNAME:dosrius@dosrius.cat
X-WR-TIMEZONE:Europe/Madrid
DESCRIPTION:
A les 11 h tindrà lloc una missa al Santuari del Corredor i tot seguit una ballada de sardanes.

URI:https://www.dosrius.cat/actualitat/noticies/canyamars-celebra-el-vot-de-poble-el-proper-1-de-maig.html
CLASS:PUBLIC
END:VEVENT
END:VCALENDAR
