BEGIN:VCALENDAR
VERSION:2.0
CALSCALE:GREGORIAN
PRODID:-//Diputació de Barcelona//DibaCMS//EN
BEGIN:VEVENT
UID:4210
DTSTAMP:20260422T015632
DTSTART:20240426T000000
DTEND:20300402T000000
SUMMARY:Manual d’instruccions per a les persones que formen part de les Meses electorals per les Eleccions Europees
LOCATION:
METHOD:PUBLISH
X-WR-CALNAME:dosrius@dosrius.cat
X-WR-TIMEZONE:Europe/Madrid
DESCRIPTION:
Els comicis se celebraran el proper diumenge, 9 de juny. 

URI:https://www.dosrius.cat/actualitat/noticies/manual-dinstruccions-per-a-les-persones-que-formen-part-de-les-meses-electorals-per-les-eleccions-europees.html
CLASS:PUBLIC
END:VEVENT
END:VCALENDAR
