BEGIN:VCALENDAR
VERSION:2.0
CALSCALE:GREGORIAN
PRODID:-//Diputació de Barcelona//DibaCMS//EN
BEGIN:VEVENT
UID:4208
DTSTAMP:20260422T015416
DTSTART:20240424T000000
DTEND:20300406T000000
SUMMARY:L’Ajuntament organitza una xerrada amb l’ADF per millorar la prevenció i seguretat envers els incendis forestals
LOCATION:
METHOD:PUBLISH
X-WR-CALNAME:dosrius@dosrius.cat
X-WR-TIMEZONE:Europe/Madrid
DESCRIPTION:
Tindrà lloc el dijous, 9 de maig, i es compartirà la normativa vigent i diversos consells a seguir en el medi natural.

URI:https://www.dosrius.cat/actualitat/noticies/lajuntament-organitza-una-xerrada-amb-ladf-per-millorar-la-prevencio-i-seguretat-envers-els-incendis-forestals.html
CLASS:PUBLIC
END:VEVENT
END:VCALENDAR
