BEGIN:VCALENDAR
VERSION:2.0
CALSCALE:GREGORIAN
PRODID:-//Diputació de Barcelona//DibaCMS//EN
BEGIN:VEVENT
UID:4205
DTSTAMP:20260422T001404
DTSTART:20240423T000000
DTEND:20370103T000000
SUMMARY:25 d'abril: Ple Municipal Ordinari
LOCATION:
METHOD:PUBLISH
X-WR-CALNAME:dosrius@dosrius.cat
X-WR-TIMEZONE:Europe/Madrid
DESCRIPTION:
La sessió tindrà lloc a la Sala de Plens a les 16.00 h i es podrà seguir en directe a través del canal de YouTube de l'Ajuntament.

URI:https://www.dosrius.cat/actualitat/noticies/25-dabril-ple-municipal-ordinari.html
CLASS:PUBLIC
END:VEVENT
END:VCALENDAR
