BEGIN:VCALENDAR
VERSION:2.0
CALSCALE:GREGORIAN
PRODID:-//Diputació de Barcelona//DibaCMS//EN
BEGIN:VEVENT
UID:4201
DTSTAMP:20260422T014519
DTSTART:20240523T230000
DTEND:20310404T000000
SUMMARY:Interrupcions de subministrament a Can Massuet pel manteniment de les instal·lacions elèctriques 
LOCATION:
METHOD:PUBLISH
X-WR-CALNAME:dosrius@dosrius.cat
X-WR-TIMEZONE:Europe/Madrid
DESCRIPTION:
Endesa informa l’Ajuntament de Dosrius que dijous, 30 de maig, es faran talls en el subministrament elèctric que afectaran tot Can Massuet.

URI:https://www.dosrius.cat/actualitat/noticies/4201-interrupcions-de-subministrament-a-can-massuet-pel-manteniment-de-les-installacions-electriques-.html
CLASS:PUBLIC
END:VEVENT
END:VCALENDAR
