BEGIN:VCALENDAR
VERSION:2.0
CALSCALE:GREGORIAN
PRODID:-//Diputació de Barcelona//DibaCMS//EN
BEGIN:VEVENT
UID:4199
DTSTAMP:20260421T225919
DTSTART:20240417T000000
DTEND:20290401T000000
SUMMARY:Aquesta primavera, tallers d’skate a Dosrius
LOCATION:
METHOD:PUBLISH
X-WR-CALNAME:dosrius@dosrius.cat
X-WR-TIMEZONE:Europe/Madrid
DESCRIPTION:
Tots els dilluns de maig, juny i juliol de 17.30 a 18.45 h. Cal inscriure’s presencialment a les oficines municipals o telemàticament via instància genèrica. 

URI:https://www.dosrius.cat/actualitat/noticies/aquesta-primavera-tallers-dskate-a-dosrius.html
CLASS:PUBLIC
END:VEVENT
END:VCALENDAR
