BEGIN:VCALENDAR
VERSION:2.0
CALSCALE:GREGORIAN
PRODID:-//Diputació de Barcelona//DibaCMS//EN
BEGIN:VEVENT
UID:4188
DTSTAMP:20260422T042406
DTSTART:20240412T000000
DTEND:20290401T000000
SUMMARY:Alerta de Salut per la retirada del mercat de dos productes de la marca Adidas
LOCATION:
METHOD:PUBLISH
X-WR-CALNAME:dosrius@dosrius.cat
X-WR-TIMEZONE:Europe/Madrid
DESCRIPTION:
L’informe afecta l’ADIDAS Active Start Revitalizing Shower Gel i l’ADIDAS Get Ready After Shave

URI:https://www.dosrius.cat/actualitat/noticies/alerta-de-salut-per-la-retirada-del-mercat-de-dos-productes-de-la-marca-adidas.html
CLASS:PUBLIC
END:VEVENT
END:VCALENDAR
