BEGIN:VCALENDAR
VERSION:2.0
CALSCALE:GREGORIAN
PRODID:-//Diputació de Barcelona//DibaCMS//EN
BEGIN:VEVENT
UID:4186
DTSTAMP:20260422T002008
DTSTART:20240410T000000
DTEND:20290401T000000
SUMMARY:Els centres educatius de Dosrius i l’Arxiu Municipal impulsen la Ruta del Castell
LOCATION:
METHOD:PUBLISH
X-WR-CALNAME:dosrius@dosrius.cat
X-WR-TIMEZONE:Europe/Madrid
DESCRIPTION:
Els alumnes han dissenyat la ruta i han elaborat les senyalitzacions.

URI:https://www.dosrius.cat/actualitat/noticies/els-centres-educatius-de-dosrius-i-larxiu-municipal-impulsen-la-ruta-del-castell.html
CLASS:PUBLIC
END:VEVENT
END:VCALENDAR
