BEGIN:VCALENDAR
VERSION:2.0
CALSCALE:GREGORIAN
PRODID:-//Diputació de Barcelona//DibaCMS//EN
BEGIN:VEVENT
UID:4183
DTSTAMP:20260422T013520
DTSTART:20240409T000000
DTEND:20300401T000000
SUMMARY:Celebrem la Diada de Sant Jordi a Dosrius!
LOCATION:
METHOD:PUBLISH
X-WR-CALNAME:dosrius@dosrius.cat
X-WR-TIMEZONE:Europe/Madrid
DESCRIPTION:
Dimarts 23 d’abril la plaça de Can Torres acollirà a les 16.30 h diferents activitats festives per a celebrar la diada. 

URI:https://www.dosrius.cat/actualitat/noticies/celebrem-la-diada-de-sant-jordi-a-dosrius.html
CLASS:PUBLIC
END:VEVENT
END:VCALENDAR
