BEGIN:VCALENDAR
VERSION:2.0
CALSCALE:GREGORIAN
PRODID:-//Diputació de Barcelona//DibaCMS//EN
BEGIN:VEVENT
UID:4182
DTSTAMP:20260422T132011
DTSTART:20240405T000000
DTEND:20290401T000000
SUMMARY:Alerta de Salut per la retirada del mercat d’un cosmètic
LOCATION:
METHOD:PUBLISH
X-WR-CALNAME:dosrius@dosrius.cat
X-WR-TIMEZONE:Europe/Madrid
DESCRIPTION:
L’informe afecta el Nectar of bio - Les Cosmétiques Design Paris. Serum firmeza, que segons conclou l’Agència Espanyola de Medicaments i Productes Sanitaris està contaminat microbiològicament per bacteris. 

URI:https://www.dosrius.cat/actualitat/noticies/alerta-de-salut-per-la-retirada-del-mercat-dun-cosmetic.html
CLASS:PUBLIC
END:VEVENT
END:VCALENDAR
