BEGIN:VCALENDAR
VERSION:2.0
CALSCALE:GREGORIAN
PRODID:-//Diputació de Barcelona//DibaCMS//EN
BEGIN:VEVENT
UID:4181
DTSTAMP:20260422T025144
DTSTART:20240404T000000
DTEND:20290401T000000
SUMMARY:S’inicien les obres d’arranjament del carrer Lluís Moret
LOCATION:
METHOD:PUBLISH
X-WR-CALNAME:dosrius@dosrius.cat
X-WR-TIMEZONE:Europe/Madrid
DESCRIPTION:
S’ampliarà amb un pas per a vianants amb una amplada d’1,5 metres, es crearan noves places d’aparcament i es col·locaran nous fanals

URI:https://www.dosrius.cat/actualitat/noticies/sinicien-les-obres-darranjament-del-carrer-lluis-moret.html
CLASS:PUBLIC
END:VEVENT
END:VCALENDAR
