BEGIN:VCALENDAR
VERSION:2.0
CALSCALE:GREGORIAN
PRODID:-//Diputació de Barcelona//DibaCMS//EN
BEGIN:VEVENT
UID:4179
DTSTAMP:20260422T030032
DTSTART:20240402T000000
DTEND:20290401T000000
SUMMARY:Quinzena edició del Concurs Literari Esteve Albert
LOCATION:
METHOD:PUBLISH
X-WR-CALNAME:dosrius@dosrius.cat
X-WR-TIMEZONE:Europe/Madrid
DESCRIPTION:
Les propostes es poden enviar fins al 7 de juny. 

URI:https://www.dosrius.cat/actualitat/noticies/quinzena-edicio-del-concurs-literari-esteve-albert.html
CLASS:PUBLIC
END:VEVENT
END:VCALENDAR
