BEGIN:VCALENDAR
VERSION:2.0
CALSCALE:GREGORIAN
PRODID:-//Diputació de Barcelona//DibaCMS//EN
BEGIN:VEVENT
UID:4178
DTSTAMP:20260422T055452
DTSTART:20240401T000000
DTEND:20290401T000000
SUMMARY:Tallat el carrer Ocata, a Can Massuet del Far, per la caiguda d’un mur de contenció
LOCATION:
METHOD:PUBLISH
X-WR-CALNAME:dosrius@dosrius.cat
X-WR-TIMEZONE:Europe/Madrid
DESCRIPTION:
L’incident no ha causat ferits però sí danys materials. 

URI:https://www.dosrius.cat/actualitat/noticies/tallat-el-carrer-ocata-a-can-massuet-del-far-per-la-caiguda-dun-mur-de-contencio.html
CLASS:PUBLIC
END:VEVENT
END:VCALENDAR
