BEGIN:VCALENDAR
VERSION:2.0
CALSCALE:GREGORIAN
PRODID:-//Diputació de Barcelona//DibaCMS//EN
BEGIN:VEVENT
UID:4177
DTSTAMP:20260422T085042
DTSTART:20240327T000000
DTEND:20280302T000000
SUMMARY:Alerta de Salut per la retirada del mercat de diversos productes cosmètics i de cura personal
LOCATION:
METHOD:PUBLISH
X-WR-CALNAME:dosrius@dosrius.cat
X-WR-TIMEZONE:Europe/Madrid
DESCRIPTION:
L’informe afecta la set productes, els quals contenen de substàncies prohibides en productes cosmètics.

URI:https://www.dosrius.cat/actualitat/noticies/alerta-de-salut-per-la-retirada-del-mercat-de-diversos-productes-cosmetics-i-de-cura-personal.html
CLASS:PUBLIC
END:VEVENT
END:VCALENDAR
