BEGIN:VCALENDAR
VERSION:2.0
CALSCALE:GREGORIAN
PRODID:-//Diputació de Barcelona//DibaCMS//EN
BEGIN:VEVENT
UID:4174
DTSTAMP:20260422T055341
DTSTART:20240325T000000
DTEND:20280303T000000
SUMMARY:Consulta el cens electoral per les eleccions al Parlament de Catalunya del 12 de maig
LOCATION:
METHOD:PUBLISH
X-WR-CALNAME:dosrius@dosrius.cat
X-WR-TIMEZONE:Europe/Madrid
DESCRIPTION:
El període de consulta i reclamació de la inscripció al cens electoral començarà el 25 de març i finalitzarà l’1 d’abril, ambdós inclosos. 

URI:https://www.dosrius.cat/actualitat/noticies/consulta-el-cens-electoral-per-les-eleccions-al-parlament-de-catalunya-del-12-de-maig.html
CLASS:PUBLIC
END:VEVENT
END:VCALENDAR
