BEGIN:VCALENDAR
VERSION:2.0
CALSCALE:GREGORIAN
PRODID:-//Diputació de Barcelona//DibaCMS//EN
BEGIN:VEVENT
UID:4171
DTSTAMP:20260422T001323
DTSTART:20240320T000000
DTEND:20290301T000000
SUMMARY:Interrupcions en el subministrament d’aigua per millores a la xarxa
LOCATION:
METHOD:PUBLISH
X-WR-CALNAME:dosrius@dosrius.cat
X-WR-TIMEZONE:Europe/Madrid
DESCRIPTION:
​​​​​​​Agbar informa l’Ajuntament de Dosrius que dijous, 21 de març, s’interromprà el servei d’aigua potable entre les 9 i les 13 h al carrer Esteve Albert (nombres parells).

URI:https://www.dosrius.cat/actualitat/noticies/interrupcions-en-el-subministrament-daigua-per-millores-a-la-xarxa.html
CLASS:PUBLIC
END:VEVENT
END:VCALENDAR
