BEGIN:VCALENDAR
VERSION:2.0
CALSCALE:GREGORIAN
PRODID:-//Diputació de Barcelona//DibaCMS//EN
BEGIN:VEVENT
UID:4169
DTSTAMP:20260422T055528
DTSTART:20240319T000000
DTEND:20280302T000000
SUMMARY:S’ajorna el taller participatiu ‘Dosrius amb ulls de dones’
LOCATION:
METHOD:PUBLISH
X-WR-CALNAME:dosrius@dosrius.cat
X-WR-TIMEZONE:Europe/Madrid
DESCRIPTION:Estava programat per aquest dijous, 21 de març, dins els actes del Dia Internacional de la Dona. Pròximament s’anunciarà la nova data.

URI:https://www.dosrius.cat/actualitat/noticies/sajorna-el-taller-participatiu-dosrius-amb-ulls-de-dones.html
CLASS:PUBLIC
END:VEVENT
END:VCALENDAR
