BEGIN:VCALENDAR
VERSION:2.0
CALSCALE:GREGORIAN
PRODID:-//Diputació de Barcelona//DibaCMS//EN
BEGIN:VEVENT
UID:4167
DTSTAMP:20260422T015432
DTSTART:20240313T000000
DTEND:20290302T000000
SUMMARY:Inici del període de prohibició d’encesa de foc en zones forestals sense autorització
LOCATION:
METHOD:PUBLISH
X-WR-CALNAME:dosrius@dosrius.cat
X-WR-TIMEZONE:Europe/Madrid
DESCRIPTION:
A partir d’aquest divendres, 15 de març, s'inicia la prohibició de fer foc sense autorització per totes aquelles activitats amb risc d’incendi que es duguin a terme a menys de 500 metres de terreny forestal. 

URI:https://www.dosrius.cat/actualitat/noticies/inici-del-periode-de-prohibicio-dencesa-de-foc-en-zones-forestals-sense-autoritzacio.html
CLASS:PUBLIC
END:VEVENT
END:VCALENDAR
