BEGIN:VCALENDAR
VERSION:2.0
CALSCALE:GREGORIAN
PRODID:-//Diputació de Barcelona//DibaCMS//EN
BEGIN:VEVENT
UID:4166
DTSTAMP:20260422T025254
DTSTART:20240312T000000
DTEND:20300301T000000
SUMMARY:2 i 4 d’abril: cens dels comerços i empreses de Dosrius
LOCATION:
METHOD:PUBLISH
X-WR-CALNAME:dosrius@dosrius.cat
X-WR-TIMEZONE:Europe/Madrid
DESCRIPTION:
Durant aquests dies s’elaborarà el cens de les activitats i instal·lacions del municipi, realitzant fotografies a les façanes dels edificis on s’hi desenvolupen.

URI:https://www.dosrius.cat/actualitat/noticies/2-i-4-dabril-cens-dels-comercos-i-empreses-de-dosrius.html
CLASS:PUBLIC
END:VEVENT
END:VCALENDAR
