BEGIN:VCALENDAR
VERSION:2.0
CALSCALE:GREGORIAN
PRODID:-//Diputació de Barcelona//DibaCMS//EN
BEGIN:VEVENT
UID:4165
DTSTAMP:20260422T001344
DTSTART:20240308T000000
DTEND:20300301T000000
SUMMARY:Vols participar en l’organització de les festes de Dosrius? 
LOCATION:
METHOD:PUBLISH
X-WR-CALNAME:dosrius@dosrius.cat
X-WR-TIMEZONE:Europe/Madrid
DESCRIPTION:
L’Àrea de Cultura de l’Ajuntament de Dosrius fa una crida als veïns i veïnes perquè s’apuntin a les comissions de festes del municipi.

URI:https://www.dosrius.cat/actualitat/noticies/vols-participar-en-lorganitzacio-de-les-festes-de-dosrius-.html
CLASS:PUBLIC
END:VEVENT
END:VCALENDAR
