BEGIN:VCALENDAR
VERSION:2.0
CALSCALE:GREGORIAN
PRODID:-//Diputació de Barcelona//DibaCMS//EN
BEGIN:VEVENT
UID:4164
DTSTAMP:20260422T193503
DTSTART:20240305T000000
DTEND:20300301T000000
SUMMARY:Noves ajudes d’habitatge per a joves i majors de 65 anys
LOCATION:
METHOD:PUBLISH
X-WR-CALNAME:dosrius@dosrius.cat
X-WR-TIMEZONE:Europe/Madrid
DESCRIPTION:
Les subvencions són en concepte de pagament de lloguer o preu de cessió d’habitatge o habitació per a l’any 2024. 

URI:https://www.dosrius.cat/actualitat/noticies/noves-ajudes-dhabitatge-per-a-joves-i-majors-de-65-anys.html
CLASS:PUBLIC
END:VEVENT
END:VCALENDAR
