BEGIN:VCALENDAR
VERSION:2.0
CALSCALE:GREGORIAN
PRODID:-//Diputació de Barcelona//DibaCMS//EN
BEGIN:VEVENT
UID:4162
DTSTAMP:20260422T232925
DTSTART:20231013T000000
DTEND:20231013T000000
SUMMARY:Resum del Ple municipal extraordinari del 11 d’octubre
LOCATION:
METHOD:PUBLISH
X-WR-CALNAME:dosrius@dosrius.cat
X-WR-TIMEZONE:Europe/Madrid
DESCRIPTION:La sessió la podeu recuperar de forma íntegra en aquest enllaç.

URI:https://www.dosrius.cat/actualitat/noticies/resum-del-ple-municipal-extraordinari-del-11-doctubre.html
CLASS:PUBLIC
END:VEVENT
END:VCALENDAR
